BEGIN:VCALENDAR
VERSION:2.0
PRODID:-//Northshore Schools Foundation - ECPv6.15.20//NONSGML v1.0//EN
CALSCALE:GREGORIAN
METHOD:PUBLISH
X-WR-CALNAME:Northshore Schools Foundation
X-ORIGINAL-URL:https://www.northshoreschoolsfoundation.org
X-WR-CALDESC:Events for Northshore Schools Foundation
REFRESH-INTERVAL;VALUE=DURATION:PT1H
X-Robots-Tag:noindex
X-PUBLISHED-TTL:PT1H
BEGIN:VTIMEZONE
TZID:America/Denver
BEGIN:DAYLIGHT
TZOFFSETFROM:-0700
TZOFFSETTO:-0600
TZNAME:MDT
DTSTART:20230312T090000
END:DAYLIGHT
BEGIN:STANDARD
TZOFFSETFROM:-0600
TZOFFSETTO:-0700
TZNAME:MST
DTSTART:20231105T080000
END:STANDARD
BEGIN:DAYLIGHT
TZOFFSETFROM:-0700
TZOFFSETTO:-0600
TZNAME:MDT
DTSTART:20240310T090000
END:DAYLIGHT
BEGIN:STANDARD
TZOFFSETFROM:-0600
TZOFFSETTO:-0700
TZNAME:MST
DTSTART:20241103T080000
END:STANDARD
BEGIN:DAYLIGHT
TZOFFSETFROM:-0700
TZOFFSETTO:-0600
TZNAME:MDT
DTSTART:20250309T090000
END:DAYLIGHT
BEGIN:STANDARD
TZOFFSETFROM:-0600
TZOFFSETTO:-0700
TZNAME:MST
DTSTART:20251102T080000
END:STANDARD
END:VTIMEZONE
BEGIN:VEVENT
DTSTART;TZID=America/Denver:20241119T080000
DTEND;TZID=America/Denver:20241230T170000
DTSTAMP:20260425T090307
CREATED:20241119T205157Z
LAST-MODIFIED:20241126T222110Z
UID:15898-1732003200-1735578000@www.northshoreschoolsfoundation.org
SUMMARY:Visit: Gallery of Giving Trees | Monday\, November 18th – Monday\, December 30th
DESCRIPTION:The Foundation is lucky to participate in the Gallery of Giving Trees this year! \n\n \n2023 Gallery of Giving Trees \n\nWhat is the Gallery of Giving Trees? \nThe Gallery of Giving Trees is an event hosted inside the fine art gallery where you can explore beautifully decorated trees that support a selection of local non profits\, stunning decorations\, and exceptional artwork by Pacific Northwest artists. This holiday experience is free and family friendly. Well behaved dogs on leashes are always welcome! The trees will be up until the first of the New Year. \nGallery of Giving Trees 2024\nCatalyst Fine Art Gallery\, located inside The Lodge at St. Edward State Park in Kenmore\, hosts the Gallery of Giving Trees every holiday season. \nHoliday trees will be proudly displayed in the gallery hallways\, with each one highlighting a different nonprofit organization. We’re honored to be one of the featured participants! \n \nEach tree will showcase information about the nonprofit\, including details of their service work and a QR code for easy donations. These holiday trees are designed to inspire digital donations directly to each nonprofit\, rather than providing a list of items to purchase for families in need. \nStarting on November 18th through December 30th\, be sure to stop by Catalyst Fine Art Gallery\, look for our tree in the gallery hallway\, and see other nonprofit organizations within our community. \n \nThe Lodge at St Edwards Park in Kenmore \nAddress: Catalyst Fine Art Gallery is located inside The Lodge at St. Edward State Park in Kenmore 14477 Juanita Dr NE\, Kenmore\, WA 98028 \nDate: Monday Nov. 18th – Monday Dec. 30th\, 2024 \nHours: 24hrs since they’re located on a state park. Stop by anytime! \nCost to attend Gallery of Giving Trees: Free! \nParking: St. Edward State Park requires a Discover Pass. Alternatively\, you can purchase a $10 day pass from a self-serve meter in the parking lot or opt for valet parking at The Lodge for an additional fee. \nWhen is the best time to visit the Gallery of Giving Trees? The weekend after Thanksgiving! The Lodge will be hosting a Holiday Market and Tree Lighting event. Shop from 30+ local vendors\, start your holiday shopping\, and browse the beautiful trees and artwork in the gallery hallways. Best part? Valet parking is free for the Holiday Market. \nFor more information on Catalyst Fine Art Gallery\, click here. \nFor more information on The Lodge at St. Edwards Park\, click here. \nQuestions? Email: kimm@nsdfoundation.org
URL:https://www.northshoreschoolsfoundation.org/event/visit-gallery-of-giving-trees-monday-november-18th-monday-december-30th/
LOCATION:Catalyst Fine Art Gallery\, 14477 Juanita Dr NE\, Kenmore\, WA\, 98028\, United States
ORGANIZER;CN="Northshore Schools Foundation":MAILTO:info@nsdfoundation.org
END:VEVENT
END:VCALENDAR