BEGIN:VCALENDAR
VERSION:2.0
PRODID:-//Northshore Schools Foundation - ECPv6.15.20//NONSGML v1.0//EN
CALSCALE:GREGORIAN
METHOD:PUBLISH
X-WR-CALNAME:Northshore Schools Foundation
X-ORIGINAL-URL:https://www.northshoreschoolsfoundation.org
X-WR-CALDESC:Events for Northshore Schools Foundation
REFRESH-INTERVAL;VALUE=DURATION:PT1H
X-Robots-Tag:noindex
X-PUBLISHED-TTL:PT1H
BEGIN:VTIMEZONE
TZID:America/Denver
BEGIN:DAYLIGHT
TZOFFSETFROM:-0700
TZOFFSETTO:-0600
TZNAME:MDT
DTSTART:20240310T090000
END:DAYLIGHT
BEGIN:STANDARD
TZOFFSETFROM:-0600
TZOFFSETTO:-0700
TZNAME:MST
DTSTART:20241103T080000
END:STANDARD
BEGIN:DAYLIGHT
TZOFFSETFROM:-0700
TZOFFSETTO:-0600
TZNAME:MDT
DTSTART:20250309T090000
END:DAYLIGHT
BEGIN:STANDARD
TZOFFSETFROM:-0600
TZOFFSETTO:-0700
TZNAME:MST
DTSTART:20251102T080000
END:STANDARD
BEGIN:DAYLIGHT
TZOFFSETFROM:-0700
TZOFFSETTO:-0600
TZNAME:MDT
DTSTART:20260308T090000
END:DAYLIGHT
BEGIN:STANDARD
TZOFFSETFROM:-0600
TZOFFSETTO:-0700
TZNAME:MST
DTSTART:20261101T080000
END:STANDARD
END:VTIMEZONE
BEGIN:VEVENT
DTSTART;TZID=America/Denver:20251025T140000
DTEND;TZID=America/Denver:20251025T160000
DTSTAMP:20260424T195108
CREATED:20250819T232913Z
LAST-MODIFIED:20251015T232908Z
UID:17651-1761400800-1761408000@www.northshoreschoolsfoundation.org
SUMMARY:KCLS Community in Action event
DESCRIPTION:Connect with nonprofits local to Bothell and surrounding areas. Learn about volunteer opportunities and other ways you can take action in the community. \nThe Foundation will be present talking about our volunteer and Board member roles. Yes\, we accept volunteers year-round! \nLearn more: https://kcls.bibliocommons.com/events/6892aff3ee7045528b813f3a \nFor questions on volunteering\, email: kimm@nsdfoundation.org 
URL:https://www.northshoreschoolsfoundation.org/event/kcls-community-in-action-event/
LOCATION:Bothell Library\, 18215 98th Avenue NE\, Bothell\, WA\, 98011\, United States
END:VEVENT
END:VCALENDAR