BEGIN:VCALENDAR
VERSION:2.0
PRODID:-//Northshore Schools Foundation - ECPv6.15.20//NONSGML v1.0//EN
CALSCALE:GREGORIAN
METHOD:PUBLISH
X-ORIGINAL-URL:https://www.northshoreschoolsfoundation.org
X-WR-CALDESC:Events for Northshore Schools Foundation
REFRESH-INTERVAL;VALUE=DURATION:PT1H
X-Robots-Tag:noindex
X-PUBLISHED-TTL:PT1H
BEGIN:VTIMEZONE
TZID:America/Denver
BEGIN:DAYLIGHT
TZOFFSETFROM:-0700
TZOFFSETTO:-0600
TZNAME:MDT
DTSTART:20240310T090000
END:DAYLIGHT
BEGIN:STANDARD
TZOFFSETFROM:-0600
TZOFFSETTO:-0700
TZNAME:MST
DTSTART:20241103T080000
END:STANDARD
BEGIN:DAYLIGHT
TZOFFSETFROM:-0700
TZOFFSETTO:-0600
TZNAME:MDT
DTSTART:20250309T090000
END:DAYLIGHT
BEGIN:STANDARD
TZOFFSETFROM:-0600
TZOFFSETTO:-0700
TZNAME:MST
DTSTART:20251102T080000
END:STANDARD
BEGIN:DAYLIGHT
TZOFFSETFROM:-0700
TZOFFSETTO:-0600
TZNAME:MDT
DTSTART:20260308T090000
END:DAYLIGHT
BEGIN:STANDARD
TZOFFSETFROM:-0600
TZOFFSETTO:-0700
TZNAME:MST
DTSTART:20261101T080000
END:STANDARD
END:VTIMEZONE
BEGIN:VEVENT
DTSTART;TZID=America/Denver:20251122T080000
DTEND;TZID=America/Denver:20251231T170000
DTSTAMP:20260424T173615
CREATED:20250926T171717Z
LAST-MODIFIED:20251229T195248Z
UID:17998-1763798400-1767200400@www.northshoreschoolsfoundation.org
SUMMARY:Catalyst Fine Art Gallery’s Gallery of Giving Trees
DESCRIPTION:The Foundation is excited to be part of the Gallery of Giving Trees once again this year! Hosted by Catalyst Fine Art Gallery inside The Lodge at St. Edward State Park in Kenmore\, this annual holiday tradition features eight beautifully decorated trees\, each representing a different nonprofit organization. \nVisit our holiday Giving tree on the 2nd-floor grand passageway\, enjoy the beautiful artwork\, and support the Foundation by making a digital donation through an ornament. \nLearn more about Catalyst: https://catalystfineart.com/
URL:https://www.northshoreschoolsfoundation.org/event/catalyst-fine-art-gallerys-gallery-of-giving-trees/
LOCATION:Catalyst Fine Art Gallery\, 14477 Juanita Dr NE\, Kenmore\, WA\, 98028\, United States
END:VEVENT
BEGIN:VEVENT
DTSTART;TZID=America/Denver:20251206T100000
DTEND;TZID=America/Denver:20251206T200000
DTSTAMP:20260424T173615
CREATED:20250926T171408Z
LAST-MODIFIED:20250926T171408Z
UID:17995-1765015200-1765051200@www.northshoreschoolsfoundation.org
SUMMARY:Bothell Tree Lighting on Main Street
DESCRIPTION:Join us for holiday lights and festive cheer on Main Street in Bothell! The annual Bothell Tree Lighting is a family-friendly celebration open to everyone. \n10:00am-8:00pm is the event \n4:00-6:30pm: Staff will be there with a fun holiday kids activity. Look for our signature red tent and stop by our booth. \nLearn more: https://www.bothelltreelightingfestival.com/
URL:https://www.northshoreschoolsfoundation.org/event/bothell-tree-lighting-on-main-street/
LOCATION:Main Street in Bothell
END:VEVENT
END:VCALENDAR