BEGIN:VCALENDAR
VERSION:2.0
PRODID:-//Northshore Schools Foundation - ECPv6.15.20//NONSGML v1.0//EN
CALSCALE:GREGORIAN
METHOD:PUBLISH
X-WR-CALNAME:Northshore Schools Foundation
X-ORIGINAL-URL:https://www.northshoreschoolsfoundation.org
X-WR-CALDESC:Events for Northshore Schools Foundation
REFRESH-INTERVAL;VALUE=DURATION:PT1H
X-Robots-Tag:noindex
X-PUBLISHED-TTL:PT1H
BEGIN:VTIMEZONE
TZID:America/Denver
BEGIN:DAYLIGHT
TZOFFSETFROM:-0700
TZOFFSETTO:-0600
TZNAME:MDT
DTSTART:20250309T090000
END:DAYLIGHT
BEGIN:STANDARD
TZOFFSETFROM:-0600
TZOFFSETTO:-0700
TZNAME:MST
DTSTART:20251102T080000
END:STANDARD
BEGIN:DAYLIGHT
TZOFFSETFROM:-0700
TZOFFSETTO:-0600
TZNAME:MDT
DTSTART:20260308T090000
END:DAYLIGHT
BEGIN:STANDARD
TZOFFSETFROM:-0600
TZOFFSETTO:-0700
TZNAME:MST
DTSTART:20261101T080000
END:STANDARD
BEGIN:DAYLIGHT
TZOFFSETFROM:-0700
TZOFFSETTO:-0600
TZNAME:MDT
DTSTART:20270314T090000
END:DAYLIGHT
BEGIN:STANDARD
TZOFFSETFROM:-0600
TZOFFSETTO:-0700
TZNAME:MST
DTSTART:20271107T080000
END:STANDARD
END:VTIMEZONE
BEGIN:VEVENT
DTSTART;TZID=America/Denver:20260108T170000
DTEND;TZID=America/Denver:20260108T190000
DTSTAMP:20260424T162440
CREATED:20251229T195005Z
LAST-MODIFIED:20251229T195005Z
UID:18509-1767891600-1767898800@www.northshoreschoolsfoundation.org
SUMMARY:LUMA BizRise | After-Hours Tech + Networking Night
DESCRIPTION:Looking to expand your professional network AND learn about AI for business? Join LUMA BizRise for an After-Hours Tech + Networking Night on January 8th from 5-7 PM at Banner Bank in Bothell.\n\n\n\nWhether you’re curious about AI or just want to meet like-minded entrepreneurs\, this evening is designed for you.\n\n\n\nDate and time: January 8\, 2026 | 5-7 PM\nLocation: Banner Bank of Bothell\, 18203 Bothell Way NE\, Bothell\, WA 98011\n\n\n\nRegistration is required\, so RSVP today: https://bit.ly/4bbPOQb
URL:https://www.northshoreschoolsfoundation.org/event/luma-bizrise-after-hours-tech-networking-night/
LOCATION:18203 Bothell Way NE\, Bothell\, WA 98011\, 18203 Bothell Way NE\, Bothell\, WA\, 98011\, United States
ORGANIZER;CN="Northshore Schools Foundation":MAILTO:info@nsdfoundation.org
END:VEVENT
END:VCALENDAR