BEGIN:VCALENDAR
VERSION:2.0
PRODID:-//Northshore Schools Foundation - ECPv6.15.20//NONSGML v1.0//EN
CALSCALE:GREGORIAN
METHOD:PUBLISH
X-WR-CALNAME:Northshore Schools Foundation
X-ORIGINAL-URL:https://www.northshoreschoolsfoundation.org
X-WR-CALDESC:Events for Northshore Schools Foundation
REFRESH-INTERVAL;VALUE=DURATION:PT1H
X-Robots-Tag:noindex
X-PUBLISHED-TTL:PT1H
BEGIN:VTIMEZONE
TZID:America/Denver
BEGIN:DAYLIGHT
TZOFFSETFROM:-0700
TZOFFSETTO:-0600
TZNAME:MDT
DTSTART:20240310T090000
END:DAYLIGHT
BEGIN:STANDARD
TZOFFSETFROM:-0600
TZOFFSETTO:-0700
TZNAME:MST
DTSTART:20241103T080000
END:STANDARD
BEGIN:DAYLIGHT
TZOFFSETFROM:-0700
TZOFFSETTO:-0600
TZNAME:MDT
DTSTART:20250309T090000
END:DAYLIGHT
BEGIN:STANDARD
TZOFFSETFROM:-0600
TZOFFSETTO:-0700
TZNAME:MST
DTSTART:20251102T080000
END:STANDARD
BEGIN:DAYLIGHT
TZOFFSETFROM:-0700
TZOFFSETTO:-0600
TZNAME:MDT
DTSTART:20260308T090000
END:DAYLIGHT
BEGIN:STANDARD
TZOFFSETFROM:-0600
TZOFFSETTO:-0700
TZNAME:MST
DTSTART:20261101T080000
END:STANDARD
END:VTIMEZONE
BEGIN:VEVENT
DTSTART;TZID=America/Denver:20250521T110000
DTEND;TZID=America/Denver:20250521T220000
DTSTAMP:20260424T153325
CREATED:20250417T152512Z
LAST-MODIFIED:20250417T152512Z
UID:17067-1747825200-1747864800@www.northshoreschoolsfoundation.org
SUMMARY:Feast for Good: Aroma Restaurant
DESCRIPTION:Want to satisfy your foodie cravings while making a positive impact? Here’s how you can enjoy a meal AND support the Northshore Schools Foundation. \nHere’s the deliciously simple plan:\n– Head over to Aroma Restaurant on Wednesday\, May 21: 22910 Bothell Everett Hwy\, Bothell\, WA 98021\n-Ordering in person: simply mention “Northshore Schools Foundation” \n15% of your bill will come back to the Foundation\, helping us advance our service work for ALL Northshore students\, educators\, and classrooms. \nThat’s all it takes to help us raise funds! \nEvery bite makes a difference! Enjoy your meal\, knowing that you’re fueling something truly meaningful with every dish. See you there!
URL:https://www.northshoreschoolsfoundation.org/event/feast-for-good-aroma-restaurant/
LOCATION:22910 Bothell Everett Hwy\, Bothell\, WA 98021\, 22910 Bothell Everett Hwy\, Bothell\, WA\, 98012\, United States
CATEGORIES:Dineouts
ORGANIZER;CN="Northshore Schools Foundation":MAILTO:info@nsdfoundation.org
END:VEVENT
BEGIN:VEVENT
DTSTART;TZID=America/Denver:20250514T110000
DTEND;TZID=America/Denver:20250514T220000
DTSTAMP:20260424T153325
CREATED:20250417T152039Z
LAST-MODIFIED:20250417T152039Z
UID:17064-1747220400-1747260000@www.northshoreschoolsfoundation.org
SUMMARY:Feast for Good: Pizza Coop & Ale House
DESCRIPTION:Want to satisfy your foodie cravings while making a positive impact? Here’s how you can enjoy a meal AND support the Northshore Schools Foundation. \nHere’s the deliciously simple plan:\n– Head over to Pizza Coop on Wednesday\, May 14\, 2025: 13317 NE 175th St\, Woodinville\, WA 98072\n-Ordering in person or phone: simply mention “Northshore Schools Foundation”\n-Online ordering: Use this special link: https://www.thepizzacoop.com/product/northshore-schools-foundation-fundraiser/616 \n25% of your bill will come back to the Foundation\, helping us advance our service work for ALL Northshore students\, educators\, and classrooms. \nThat’s all it takes to help us raise funds! \nEvery cheesy bite makes a difference! Enjoy your pizza\, knowing that you’re fueling something truly meaningful with every slice. See you there!
URL:https://www.northshoreschoolsfoundation.org/event/feast-for-good-pizza-coop-ale-house/
LOCATION:13317 NE 175th St\, Woodinville\, WA 98072\, 13317 NE 175th St\, Woodinville\, WA\, 98072\, United States
CATEGORIES:Dineouts
ORGANIZER;CN="Northshore Schools Foundation":MAILTO:info@nsdfoundation.org
END:VEVENT
END:VCALENDAR