BEGIN:VCALENDAR
VERSION:2.0
PRODID:-//Northshore Schools Foundation - ECPv6.15.20//NONSGML v1.0//EN
CALSCALE:GREGORIAN
METHOD:PUBLISH
X-WR-CALNAME:Northshore Schools Foundation
X-ORIGINAL-URL:https://www.northshoreschoolsfoundation.org
X-WR-CALDESC:Events for Northshore Schools Foundation
REFRESH-INTERVAL;VALUE=DURATION:PT1H
X-Robots-Tag:noindex
X-PUBLISHED-TTL:PT1H
BEGIN:VTIMEZONE
TZID:America/Denver
BEGIN:DAYLIGHT
TZOFFSETFROM:-0700
TZOFFSETTO:-0600
TZNAME:MDT
DTSTART:20240310T090000
END:DAYLIGHT
BEGIN:STANDARD
TZOFFSETFROM:-0600
TZOFFSETTO:-0700
TZNAME:MST
DTSTART:20241103T080000
END:STANDARD
BEGIN:DAYLIGHT
TZOFFSETFROM:-0700
TZOFFSETTO:-0600
TZNAME:MDT
DTSTART:20250309T090000
END:DAYLIGHT
BEGIN:STANDARD
TZOFFSETFROM:-0600
TZOFFSETTO:-0700
TZNAME:MST
DTSTART:20251102T080000
END:STANDARD
BEGIN:DAYLIGHT
TZOFFSETFROM:-0700
TZOFFSETTO:-0600
TZNAME:MDT
DTSTART:20260308T090000
END:DAYLIGHT
BEGIN:STANDARD
TZOFFSETFROM:-0600
TZOFFSETTO:-0700
TZNAME:MST
DTSTART:20261101T080000
END:STANDARD
BEGIN:DAYLIGHT
TZOFFSETFROM:-0700
TZOFFSETTO:-0600
TZNAME:MDT
DTSTART:20270314T090000
END:DAYLIGHT
BEGIN:STANDARD
TZOFFSETFROM:-0600
TZOFFSETTO:-0700
TZNAME:MST
DTSTART:20271107T080000
END:STANDARD
END:VTIMEZONE
BEGIN:VEVENT
DTSTART;TZID=America/Denver:20260226T110000
DTEND;TZID=America/Denver:20260226T123000
DTSTAMP:20260424T141627
CREATED:20260109T165118Z
LAST-MODIFIED:20260109T170327Z
UID:18561-1772103600-1772109000@www.northshoreschoolsfoundation.org
SUMMARY:All In for Kids Luncheon Fundraiser
DESCRIPTION:It’s Back and Relaunched! We’ve been servicing Northshore for 30 incredible years\, and we want to continue MORE years of service with YOU! Let’s do this together\, Northshore! \nJoin Northshore Schools Foundation’s All In for Kids spring luncheon\, as we kick off our future supporting Northshore students\, educators\, and classrooms\, all while raising essential funds. \nThis will be better than ever! We can’t wait to see you there! \nWe’re honored to welcome King County Councilmember Sarah Perry for opening remarks. \nAdmission is free\, with a suggested donation at the luncheon. Register today! All In for Northshore\, together! \nRegister today and secure your seat: https://bit.ly/4nVdYBc \nAll In for Kids event page: https://bit.ly/47BnfJU \n\nDon’t forget! We’ve a 7-day Online Auction that’s open to anyone to browse\, bid\, and win. The online auction starts on Monday\, Feb. 23\, 2026 at 8:00AM and ends on Monday\, March 2\, 2026\, 11:45PM. \nOnline Auction website: https://bit.ly/4qJjucV
URL:https://www.northshoreschoolsfoundation.org/event/all-in-for-kids-luncheon-fundraiser-2/
LOCATION:Eastside Church\, 14520 100th Ave NE Suite 104\, Bothell\, WA\, 98011\, United States
CATEGORIES:Fundraiser
ORGANIZER;CN="Northshore Schools Foundation":MAILTO:info@nsdfoundation.org
END:VEVENT
BEGIN:VEVENT
DTSTART;TZID=America/Denver:20260223T080000
DTEND;TZID=America/Denver:20260302T234500
DTSTAMP:20260424T141627
CREATED:20260109T165817Z
LAST-MODIFIED:20260109T165958Z
UID:18567-1771833600-1772495100@www.northshoreschoolsfoundation.org
SUMMARY:7-Day All In for Kids Online Auction
DESCRIPTION:Our 7-day All In for Kids online auction is open to everyone\, if you’re attending our luncheon or not. \nHere’s the win-win: competitive bidding means more funds for Northshore students and classrooms. So bid often\, bid high\, and know every dollar goes directly to our service work. \nThe online auction starts on Monday\, Feb. 23\, 2026 at 8:00AM and ends on Monday\, March 2\, 2026\, 11:45PM. \nIn the meantime\, browse our online auction anytime to see all the exciting items you could win. More items will be added every week! \nAre you looking to make an in-kind donation of an auction item? Great! Email: kimm@nsdfoundation.org \nOnline Auction website: https://bit.ly/4qJjucV \nDon’t forget! Attend our All In for Kids luncheon\, on Thursday\, Feb. 26 at Eastside Church\, to hear the impact of our service work first hand. Secure your seat today: https://bit.ly/4nVdYBc
URL:https://www.northshoreschoolsfoundation.org/event/7-day-all-in-for-kids-online-auction/
CATEGORIES:Fundraiser
ORGANIZER;CN="Northshore Schools Foundation":MAILTO:info@nsdfoundation.org
END:VEVENT
BEGIN:VEVENT
DTSTART;TZID=America/Denver:20251117T080000
DTEND;TZID=America/Denver:20251117T170000
DTSTAMP:20260424T141627
CREATED:20251117T205833Z
LAST-MODIFIED:20251117T205933Z
UID:18345-1763366400-1763398800@www.northshoreschoolsfoundation.org
SUMMARY:All In for Kids Luncheon Fundraiser
DESCRIPTION:It’s Back! And We Can’t Wait to See You! \nJoin us for the Foundation’s All In for Kids Spring Luncheon Fundraiser\, an afternoon celebrating Northshore students\, supporting classroom teachers\, and strengthening our shared commitment to Northshore education. \nThis year\, it’s interactive! Get ready to play fun audience games\, participate in an engaging program\, and bid in a short Live Auction\, all designed to get YOU involved! \nRegistration is currently open\, secure your seat\, TODAY: click here to RSVP \nLearn more\, click here. \nLuncheon Details: \n\nDate: Thursday\, Feb. 26\, 2026\nTime: Doors open at 11:00 AM. Program is 11:30 AM – 12:30 PM.\nLocation: Eastside Church in Bothell: 14520 100th Ave NE Suite 104\, Bothell\, WA 98011\nCost: Free to attend with a suggested $250 donation during the luncheon.\nWho’s Invited: Everyone! New and long time supporters\, local business owners\, parents\, family members\, volunteers\, residents\, and anyone that wants to learn more about service work for Northshore kids and classrooms.\nWhat’s Included: Short In-person live auction\, 7 day online auction [open to anyone]\, inspiring stories from students\, boxed lunch catered by BHS Culinary Students\, and an exciting program all about and for Northshore kids.\nWe’re thrilled to have Andrew McMasters hosting our program and bringing the energy!\nNote: Our 7 day online auction is open to everyone! You do not have to attend to participate and bid.\n\nAll In for Kids! Questions? Email: kimm@nsdfoundation.org
URL:https://www.northshoreschoolsfoundation.org/event/all-in-for-kids-luncheon-fundraiser/
LOCATION:Eastside Church\, 14520 100th Ave NE Suite 104\, Bothell\, WA\, 98011\, United States
CATEGORIES:Fundraiser
ORGANIZER;CN="Northshore Schools Foundation":MAILTO:info@nsdfoundation.org
END:VEVENT
BEGIN:VEVENT
DTSTART;TZID=America/Denver:20250506T080000
DTEND;TZID=America/Denver:20250507T233000
DTSTAMP:20260424T141627
CREATED:20250423T222711Z
LAST-MODIFIED:20250423T222711Z
UID:17097-1746518400-1746660600@www.northshoreschoolsfoundation.org
SUMMARY:GiveBIG 2025
DESCRIPTION:GiveBIG kicks off TODAY! Donate anytime May 6 – 7 \n \nGiveBIG is an annual fundraising event in Washington State where people can donate to local nonprofits. \nIn 2024\, GiveBIG raised $11.5 million for 1\,429 Washington state nonprofits. Help us claim our slice of that generosity this year! \nThis year\, your donation will support our Opportunity Fund! What does that mean? The Foundation can cover the costs of a student’s share of\n✔️ Fees: Activity\, transportation and field trips\n✔️ Professional Attire & Uniforms\n✔️ ASB cards\n✔️ College in high school credits\n…and more! \nSupport a NSD student with your donation! \nGiveBIG today: https://bit.ly/43WZI4M
URL:https://www.northshoreschoolsfoundation.org/event/givebig-2025/
CATEGORIES:Fundraiser
ORGANIZER;CN="Northshore Schools Foundation":MAILTO:info@nsdfoundation.org
END:VEVENT
BEGIN:VEVENT
DTSTART;TZID=America/Denver:20250329T173000
DTEND;TZID=America/Denver:20250329T220000
DTSTAMP:20260424T141627
CREATED:20250113T161328Z
LAST-MODIFIED:20250113T205111Z
UID:16715-1743269400-1743285600@www.northshoreschoolsfoundation.org
SUMMARY:30 Years of Building Bright Futures | Our Spring Fundraiser
DESCRIPTION:We’ll thrilled you want to honor the past 30 years\, celebrate our future\, and raise funds for Northshore classrooms\, educators\, and students with us! Anyone who is 21+ over is welcome to join us. \nVisit our web page for more information: https://bit.ly/4jhRJED \nFor general questions: kimm@nsdfoundation.org
URL:https://www.northshoreschoolsfoundation.org/event/30-years-of-building-bright-futures-fundraiser-sat-march-29th/
LOCATION:Inglewood Golf Club\, 6505 Inglewood Rd NE\, Kenmore\, WA\, 98028\, United States
CATEGORIES:Fundraiser
ATTACH;FMTTYPE=image/jpeg:https://www.northshoreschoolsfoundation.org/wp-content/uploads/30-Years-Apple-logo2.jpg
ORGANIZER;CN="Northshore Schools Foundation":MAILTO:info@nsdfoundation.org
END:VEVENT
END:VCALENDAR