BEGIN:VCALENDAR
VERSION:2.0
PRODID:-//Northshore Schools Foundation - ECPv6.15.20//NONSGML v1.0//EN
CALSCALE:GREGORIAN
METHOD:PUBLISH
X-WR-CALNAME:Northshore Schools Foundation
X-ORIGINAL-URL:https://www.northshoreschoolsfoundation.org
X-WR-CALDESC:Events for Northshore Schools Foundation
REFRESH-INTERVAL;VALUE=DURATION:PT1H
X-Robots-Tag:noindex
X-PUBLISHED-TTL:PT1H
BEGIN:VTIMEZONE
TZID:America/Denver
BEGIN:DAYLIGHT
TZOFFSETFROM:-0700
TZOFFSETTO:-0600
TZNAME:MDT
DTSTART:20230312T090000
END:DAYLIGHT
BEGIN:STANDARD
TZOFFSETFROM:-0600
TZOFFSETTO:-0700
TZNAME:MST
DTSTART:20231105T080000
END:STANDARD
BEGIN:DAYLIGHT
TZOFFSETFROM:-0700
TZOFFSETTO:-0600
TZNAME:MDT
DTSTART:20240310T090000
END:DAYLIGHT
BEGIN:STANDARD
TZOFFSETFROM:-0600
TZOFFSETTO:-0700
TZNAME:MST
DTSTART:20241103T080000
END:STANDARD
BEGIN:DAYLIGHT
TZOFFSETFROM:-0700
TZOFFSETTO:-0600
TZNAME:MDT
DTSTART:20250309T090000
END:DAYLIGHT
BEGIN:STANDARD
TZOFFSETFROM:-0600
TZOFFSETTO:-0700
TZNAME:MST
DTSTART:20251102T080000
END:STANDARD
END:VTIMEZONE
BEGIN:VEVENT
DTSTART;TZID=America/Denver:20241130T110000
DTEND;TZID=America/Denver:20241201T170000
DTSTAMP:20260425T102034
CREATED:20241119T205849Z
LAST-MODIFIED:20241126T222020Z
UID:15904-1732964400-1733072400@www.northshoreschoolsfoundation.org
SUMMARY:Holiday Market & Tree Lighting | Weekend after Thanksgiving
DESCRIPTION:Start your holiday shopping and visit the Gallery of Giving Trees the Saturday and Sunday after Thanksgiving! \n \nLooking for something fun after Thanksgiving? Head to Catalyst Fine Art Gallery\, located at The Lodge on St. Edwards park\, in Kenmore for a holiday market and tree lighting. \nShop from 30+ vendors at the holiday market and purchase unique items from local artists\, artisans\, and small businesses. This year\, the holiday market will feature artisan food\, candles\, jewelry\, artworks\, and handmade crafts. Find something for anyone on your gift list. \nA family and dog friendly event\, so bring everyone you know. \nGallery of Giving Trees\nAfter shopping\, be sure to stroll the gallery halls featuring Pacific Northwest artists and find the Gallery of Giving Trees\, which features holiday trees of local nonprofits including the Northshore Schools Foundation! \nThe Lodge at St. Edwards Park\nHoliday market dates: Sat. Nov. 30th from 11am-7pm with tree lighting from 4-6pm and Sun. Dec. 1st from 10am-5pm. \nCost to attend: Free! \nLocation: Catalyst Fine Art Gallery\, located inside The Lodge at St. Edward State Park in Kenmore 14477 Juanita Dr NE\, Kenmore\, WA 98028 \nParking: FREE! Valet parking\, at The Lodge\, is complimentary for the event and tree lighting! Just let the valet know you’re attending holiday market when you arrive. \nDon’t feel like using the valet service? Self-park for free using a current Discover Pass! \nSee you the weekend after Thanksgiving! \nQuestions? Email: kimm@nsdfoundation.org
URL:https://www.northshoreschoolsfoundation.org/event/holiday-market-tree-lighting-weekend-after-thanksgiving/
LOCATION:Catalyst Fine Art Gallery\, 14477 Juanita Dr NE\, Kenmore\, WA\, 98028\, United States
ORGANIZER;CN="Northshore Schools Foundation":MAILTO:info@nsdfoundation.org
END:VEVENT
BEGIN:VEVENT
DTSTART;TZID=America/Denver:20241015T173000
DTEND;TZID=America/Denver:20241015T183000
DTSTAMP:20260425T102034
CREATED:20240911T170446Z
LAST-MODIFIED:20240920T214654Z
UID:14786-1729013400-1729017000@www.northshoreschoolsfoundation.org
SUMMARY:Join us: Grants that Inspire Greatness!
DESCRIPTION:Come join us for GOOD! Let’s raise funds for our Enhance and Inspiring Learning through Classroom and District Grants Pillar!  \nWe grant $50\,000 into Northshore classrooms annually. We need your help to fund this year’s educators. \n \nYour generous donation will help us give educators grants\, so they have the resources they need to create impactful\, engaging educational experiences. Together\, we can continue to enhance and inspire learning to all Northshore students \nSee educational success stories made possible by our sponsors and donors\, highlighting how these grants have transformed learning environments! We hope it inspires you to donate to our Enhance and Inspire Learning pillar\, helping us fund more innovative educational programs and enriching activities. \nLocation: Northcreek HS Library \nTime: 5:30pm – 6:45pm \nCost: The Foundation kindly suggest a donation of $250 from each attendee to help us give educators the means to inspire students! \nWho’s invited: Anyone! NSD staff\, educators\, students\, locals\, teams\, and anyone interested in our service work. \nRSVP and we’ll save you seat: https://bit.ly/3zgRjMA \nProvided: Light bites from ATP Pathways Lunch Program and take home treats from ohh…macarons. \nMore questions? Email: kimm@nsdfoundation.org  \nMore details: https://bit.ly/4ermbbZ 
URL:https://www.northshoreschoolsfoundation.org/event/october-classroom-and-district-grant-fundraiser/
LOCATION:Northcreek High School\, 3613 191st Pl SE\, Bothell\, WA\, 98011\, United States
ORGANIZER;CN="Northshore Schools Foundation":MAILTO:info@nsdfoundation.org
END:VEVENT
END:VCALENDAR