BEGIN:VCALENDAR
VERSION:2.0
PRODID:-//Northshore Schools Foundation - ECPv6.15.20//NONSGML v1.0//EN
CALSCALE:GREGORIAN
METHOD:PUBLISH
X-ORIGINAL-URL:https://www.northshoreschoolsfoundation.org
X-WR-CALDESC:Events for Northshore Schools Foundation
REFRESH-INTERVAL;VALUE=DURATION:PT1H
X-Robots-Tag:noindex
X-PUBLISHED-TTL:PT1H
BEGIN:VTIMEZONE
TZID:America/Denver
BEGIN:DAYLIGHT
TZOFFSETFROM:-0700
TZOFFSETTO:-0600
TZNAME:MDT
DTSTART:20250309T090000
END:DAYLIGHT
BEGIN:STANDARD
TZOFFSETFROM:-0600
TZOFFSETTO:-0700
TZNAME:MST
DTSTART:20251102T080000
END:STANDARD
BEGIN:DAYLIGHT
TZOFFSETFROM:-0700
TZOFFSETTO:-0600
TZNAME:MDT
DTSTART:20260308T090000
END:DAYLIGHT
BEGIN:STANDARD
TZOFFSETFROM:-0600
TZOFFSETTO:-0700
TZNAME:MST
DTSTART:20261101T080000
END:STANDARD
BEGIN:DAYLIGHT
TZOFFSETFROM:-0700
TZOFFSETTO:-0600
TZNAME:MDT
DTSTART:20270314T090000
END:DAYLIGHT
BEGIN:STANDARD
TZOFFSETFROM:-0600
TZOFFSETTO:-0700
TZNAME:MST
DTSTART:20271107T080000
END:STANDARD
END:VTIMEZONE
BEGIN:VEVENT
DTSTART;TZID=America/Denver:20260422T080000
DTEND;TZID=America/Denver:20260422T170000
DTSTAMP:20260425T103455
CREATED:20260317T184838Z
LAST-MODIFIED:20260406T165338Z
UID:18907-1776844800-1776877200@www.northshoreschoolsfoundation.org
SUMMARY:Dineout to be All In for Kids!
DESCRIPTION:Dine and enjoy something delicious at participating Woodin Creek Village merchants [Woodinville]\, and a portion of your purchase supports the Northshore Schools Foundation’s Opportunity Fund. \nFunds will help cover Northshore Kids’ fees for graduation\, sports physicals\, 5th-grade camp\, clubs\, and more. \nJust remember to mention “Northshore Schools Foundation” when ordering your delicious eats during their business hours on Wednesday\, April 22nd. \nParticipating merchants include: \n\nSwanky Scoop Ice Cream\nSidekick Coffee\nBrix Wine Cafe\nWoodin Creek Kitchen and Tap\nRusty Pelican Cafe\n\nQuestions? Email: kimm@nsdfoundation.org \nAll In for Kids! \n  \n 
URL:https://www.northshoreschoolsfoundation.org/event/dineout-to-be-all-in-for-kids/
LOCATION:WA
ORGANIZER;CN="Northshore Schools Foundation":MAILTO:info@nsdfoundation.org
END:VEVENT
BEGIN:VEVENT
DTSTART;TZID=America/Denver:20260511T180000
DTEND;TZID=America/Denver:20260511T193000
DTSTAMP:20260425T103455
CREATED:20260421T185316Z
LAST-MODIFIED:20260421T185316Z
UID:19041-1778522400-1778527800@www.northshoreschoolsfoundation.org
SUMMARY:May is Music Month Concert
DESCRIPTION:May is Music Month at Northshore Schools Foundation\, and we’re turning up the volume on celebration! \n \nJoin us for a family-friendly concert featuring the incredible student performers from across Northshore\, a showcase of the talent\, dedication\, and creativity that music education makes possible. This special event is open to everyone\, so bring the whole family and come experience the joy of live music performed by the young artists who inspire us every day. Whether you’re a longtime supporter or joining us for the first time\, this is a celebration you won’t want to miss! \n \n\n 	Date: Monday\, May 11\, 2026\n \n 	Time: 6:00pm – 7:30pm\n \n 	Location: Haynes Hall at McMenamins Anderson School: 18607 Bothell Way NE\, Bothell\, WA 98011\n \n 	Cost: Free with a suggested donation to Northshore Schools Foundation’s musical instrument refurbishment program. We will accept digital\, cash\, and check donations.\n \n 	Who’s invited: Anyone and everyone are welcome to attend\n 	No need to RVSP\, just show up!\n\n\n\nWho’s performing?\n\n\n\n 	Bad Monkeys | Directed by Katherine Berry from Fernwood Elementary\n \n 	The Lockwood choirs | Directed by Mary Abdi from Lockwood Elementary\n \n 	Inglemoor HS Jazz Band between performances\n\nWe can’t wait to see you on Monday\, May 11th\, Northshore! All In for Kids!
URL:https://www.northshoreschoolsfoundation.org/event/may-is-music-month-concert/
LOCATION:McMenamins Anderson School:\, 18607 Bothell Way NE\, Bothell\, WA\, 98011\, United States
CATEGORIES:May is Music Month
ORGANIZER;CN="Northshore Schools Foundation":MAILTO:info@nsdfoundation.org
END:VEVENT
END:VCALENDAR