BEGIN:VCALENDAR
VERSION:2.0
PRODID:-//Northshore Schools Foundation - ECPv6.15.20//NONSGML v1.0//EN
CALSCALE:GREGORIAN
METHOD:PUBLISH
X-ORIGINAL-URL:https://www.northshoreschoolsfoundation.org
X-WR-CALDESC:Events for Northshore Schools Foundation
REFRESH-INTERVAL;VALUE=DURATION:PT1H
X-Robots-Tag:noindex
X-PUBLISHED-TTL:PT1H
BEGIN:VTIMEZONE
TZID:America/Denver
BEGIN:DAYLIGHT
TZOFFSETFROM:-0700
TZOFFSETTO:-0600
TZNAME:MDT
DTSTART:20240310T090000
END:DAYLIGHT
BEGIN:STANDARD
TZOFFSETFROM:-0600
TZOFFSETTO:-0700
TZNAME:MST
DTSTART:20241103T080000
END:STANDARD
BEGIN:DAYLIGHT
TZOFFSETFROM:-0700
TZOFFSETTO:-0600
TZNAME:MDT
DTSTART:20250309T090000
END:DAYLIGHT
BEGIN:STANDARD
TZOFFSETFROM:-0600
TZOFFSETTO:-0700
TZNAME:MST
DTSTART:20251102T080000
END:STANDARD
BEGIN:DAYLIGHT
TZOFFSETFROM:-0700
TZOFFSETTO:-0600
TZNAME:MDT
DTSTART:20260308T090000
END:DAYLIGHT
BEGIN:STANDARD
TZOFFSETFROM:-0600
TZOFFSETTO:-0700
TZNAME:MST
DTSTART:20261101T080000
END:STANDARD
END:VTIMEZONE
BEGIN:VEVENT
DTSTART;TZID=America/Denver:20250828T170000
DTEND;TZID=America/Denver:20250828T193000
DTSTAMP:20260424T212934
CREATED:20250522T164359Z
LAST-MODIFIED:20250722T204443Z
UID:17239-1756400400-1756409400@www.northshoreschoolsfoundation.org
SUMMARY:Stoup Brewing Kenmore's Beer-B-Que 2025
DESCRIPTION:Date: Thursday\, August 28\, 2025\nTime: 5:00pm – 7:30pm\nLocation: Stoup Brewing Kenmore 6704 NE 181st St\, Kenmore\, WA 98028\nWho’s Invited: Everyone! Under 21 are welcome! No need to RSVP\, just show up.\n\nDetails: Join us for an afternoon filled with delicious food\, fun memories\, and community spirit\, all to support the Northshore Schools Foundation! Look for Foundation staff and Board members in red t-shirts; we’ll be there to connect with you. \nThis event is free (!!!) to attend\, and Stoup Brewing Kenmore will remain open to the general public throughout the event. \nEnjoy and order a special BBQ menu crafted by Chef Russ from Stoup Brewing Kenmore. \nHear directly from Foundation staff about our mission and the impact of our service work. \nCurious how this event supports the Foundation? It’s through the raffle! Get a chance to win fantastic prizes\, generously donated by Stoup Brewing Kenmore. \nTwo ways to get raffle tickets during the Beer-B-Que: \n-Buy ’em! \nRaffle tickets are $10 each or 3 for $25 (cash and digital payments accepted) \n-Donate school supplies [in-person or online store]! \nBring school supply donations or purchase ’em through our online store. \nSee a Foundation staff member in a red t-shirt for raffle tickets or QR code to our online store to buy supply donations. \n100% of the raffle ticket sale proceeds benefit Northshore Schools Foundation\, which will advance our service work for ALL Northshore students\, educators\, and classrooms! \nSee you at the Beer-B-Que!
URL:https://www.northshoreschoolsfoundation.org/event/stoup-brewing-kenmores-beer-b-que-2025/
LOCATION:Stoup Brewing Kenmore\, 6704 NE 181st St\, Kenmore\, WA\, 98028\, United States
ORGANIZER;CN="Northshore Schools Foundation":MAILTO:info@nsdfoundation.org
END:VEVENT
END:VCALENDAR