BEGIN:VCALENDAR
VERSION:2.0
PRODID:-//Northshore Schools Foundation - ECPv6.15.20//NONSGML v1.0//EN
CALSCALE:GREGORIAN
METHOD:PUBLISH
X-ORIGINAL-URL:https://www.northshoreschoolsfoundation.org
X-WR-CALDESC:Events for Northshore Schools Foundation
REFRESH-INTERVAL;VALUE=DURATION:PT1H
X-Robots-Tag:noindex
X-PUBLISHED-TTL:PT1H
BEGIN:VTIMEZONE
TZID:America/Denver
BEGIN:DAYLIGHT
TZOFFSETFROM:-0700
TZOFFSETTO:-0600
TZNAME:MDT
DTSTART:20240310T090000
END:DAYLIGHT
BEGIN:STANDARD
TZOFFSETFROM:-0600
TZOFFSETTO:-0700
TZNAME:MST
DTSTART:20241103T080000
END:STANDARD
BEGIN:DAYLIGHT
TZOFFSETFROM:-0700
TZOFFSETTO:-0600
TZNAME:MDT
DTSTART:20250309T090000
END:DAYLIGHT
BEGIN:STANDARD
TZOFFSETFROM:-0600
TZOFFSETTO:-0700
TZNAME:MST
DTSTART:20251102T080000
END:STANDARD
BEGIN:DAYLIGHT
TZOFFSETFROM:-0700
TZOFFSETTO:-0600
TZNAME:MDT
DTSTART:20260308T090000
END:DAYLIGHT
BEGIN:STANDARD
TZOFFSETFROM:-0600
TZOFFSETTO:-0700
TZNAME:MST
DTSTART:20261101T080000
END:STANDARD
END:VTIMEZONE
BEGIN:VEVENT
DTSTART;TZID=America/Denver:20250920T100000
DTEND;TZID=America/Denver:20250920T140000
DTSTAMP:20260424T201924
CREATED:20250819T231857Z
LAST-MODIFIED:20250819T232046Z
UID:17642-1758362400-1758376800@www.northshoreschoolsfoundation.org
SUMMARY:City of Bothell's 2025 Sustainamania
DESCRIPTION:Come with family and friends to learn everyday sustainable practices you can use at home\, work\, school\, and in your community to build lasting change. \nWe’ll be there talking about our service work for Northshore students\, educators\, and classrooms! Look for us in red t-shirts! \nLink for event details: https://www.bothellwa.gov/227/Sustainamania \n 
URL:https://www.northshoreschoolsfoundation.org/event/city-of-bothells-2025-sustainamania/
LOCATION:Bothell City Hall Plaza\, 18415 101st Ave NE\, Bothell\, 98011\, United States
ATTACH;FMTTYPE=image/png:https://www.northshoreschoolsfoundation.org/wp-content/uploads/Social-Media-Kit-IG-Post.png
END:VEVENT
END:VCALENDAR